BEGIN:VCALENDAR
VERSION:2.0
PRODID:-// - ECPv6.15.18//NONSGML v1.0//EN
CALSCALE:GREGORIAN
METHOD:PUBLISH
X-ORIGINAL-URL:https://islamabad.visitopia.online
X-WR-CALDESC:Events for 
REFRESH-INTERVAL;VALUE=DURATION:PT1H
X-Robots-Tag:noindex
X-PUBLISHED-TTL:PT1H
BEGIN:VTIMEZONE
TZID:UTC
BEGIN:STANDARD
TZOFFSETFROM:+0000
TZOFFSETTO:+0000
TZNAME:UTC
DTSTART:20250101T000000
END:STANDARD
END:VTIMEZONE
BEGIN:VEVENT
DTSTART;TZID=UTC:20260422T173000
DTEND;TZID=UTC:20260422T193000
DTSTAMP:20260422T015347
CREATED:20260416T053853Z
LAST-MODIFIED:20260420T105005Z
UID:10007549-1776879000-1776886200@islamabad.visitopia.online
SUMMARY:The Voice of Hind Rajab - Film Screening
DESCRIPTION:The film screening of The Voice of Hind Rajab\, scheduled for 22 April 2026\, has been postponed. \nIn view of the uncertainty surrounding this week’s traffic and security situation\, the management of Alliance Française d’Islamabad and the Asian Study Group (ASG) have jointly decided to defer the event. \n\nWe appreciate your understanding and will share the new date soon. \nThank you. \n=================================================================================================================================== \n  \nYou’re Invited to Cine Club at Alliance Française! \nAlliance Française d’Islamabad warmly invites you to a special screening of The Voice of Hind Rajab\, in collaboration with the Asian Study Group. \nJoin us for a powerful and moving film that tells the story of resilience\, urgency\, and humanity in times of crisis. \n📽 Film: The Voice of Hind Rajab\n🎬 Director: Kaouther Ben Hania\n🎭 Cast: Saja Kilani\, Motaz Malhees\, Amer Hlehel \n⏱ Duration: 1.5 hours\n🗣 Language: Arabic\n💬 Subtitles: English \nDon’t miss this engaging cinematic experience followed by meaningful reflection. We look forward to welcoming you! \n✨ Cine Club – where stories come alive. \n  Date(s): \n\nWednesday April 22\, 2026 \n  Timing: \nDoors Open: 5:30 PM \nFilm Screening: 06:00 PM – 07:30 PM \n\n\n  Location: \nAlliance française\, House No. 5\, Street 55\, F-7/4\, Islamabad \n Ticket / Entry / Fee: \nFree \n Registration Link: \nhttps://forms.gle/fkgaxnXEmsKrfHVP9 \n Contact for Details: \n@afislamabad
URL:https://islamabad.visitopia.online/event/the-voice-of-hind-rajab-film-screening/
CATEGORIES:Event
ATTACH;FMTTYPE=image/jpeg:https://islamabad.visitopia.online/wp-content/uploads/2026/04/Alliance-francaise-dIslamabad.jpg
END:VEVENT
END:VCALENDAR