BEGIN:VCALENDAR
VERSION:2.0
PRODID:-// - ECPv6.15.18//NONSGML v1.0//EN
CALSCALE:GREGORIAN
METHOD:PUBLISH
X-ORIGINAL-URL:https://islamabad.visitopia.online
X-WR-CALDESC:Events for 
REFRESH-INTERVAL;VALUE=DURATION:PT1H
X-Robots-Tag:noindex
X-PUBLISHED-TTL:PT1H
BEGIN:VTIMEZONE
TZID:UTC
BEGIN:STANDARD
TZOFFSETFROM:+0000
TZOFFSETTO:+0000
TZNAME:UTC
DTSTART:20250101T000000
END:STANDARD
END:VTIMEZONE
BEGIN:VEVENT
DTSTART;TZID=UTC:20260424T140000
DTEND;TZID=UTC:20260424T230000
DTSTAMP:20260424T013511
CREATED:20260325T073540Z
LAST-MODIFIED:20260404T072142Z
UID:10007487-1777039200-1777071600@islamabad.visitopia.online
SUMMARY:Jashan-e-Baharan
DESCRIPTION:Numaishvibes Presents Jashan-e-Baharan 🌸✨ \nCelebrate the colors of spring at the most vibrant family festival in town! Join us for two exciting days filled with shopping\, food\, entertainment\, and festive vibes. \nExperience a lively atmosphere with stalls\, fun activities\, and entertainment for all ages. Don’t miss out on this colorful celebration of spring! 🌼 \n🎶 Live Music\n🛍️ Shopping Stalls\n🍔 Festive Food\n🎡 Entertainment for all\n📅 24th – 25th April\n⏰ 2PM to 11PM\n📍 Sports Arena\, Joyland Rawalpindi\n💼 Stall bookings open now! \n  \n\n  Date(s): \nFriday April 24\, 2026 – Saturday April 25\, 2026 \n  Timing: \n02:00 PM – 11:00 PM \n\n\n  Location: \nSports Arena\, Joyland\, Rawalpindi \n Ticket / Entry / Fee: \nFree \n Contact for Details & Stall Booking: \n\n@numaishvibes \nWasi Khan: 0345-9906109\nAmmal Khan: 0334-0019981
URL:https://islamabad.visitopia.online/event/jashan-e-baharan/2026-04-24/
CATEGORIES:Event
ATTACH;FMTTYPE=image/jpeg:https://islamabad.visitopia.online/wp-content/uploads/2026/03/Numaishvibes-2.jpg
END:VEVENT
BEGIN:VEVENT
DTSTART;TZID=UTC:20260424T181500
DTEND;TZID=UTC:20260424T210000
DTSTAMP:20260424T013511
CREATED:20250503T132305Z
LAST-MODIFIED:20250503T150520Z
UID:10001856-1777054500-1777064400@islamabad.visitopia.online
SUMMARY:IRU Friday Night Run
DESCRIPTION:Every Friday night\, we have a 10-mile run. We meet up at Shalimar Cricket Ground\, F-6/3 at 6:30 PM and start running at 6:45 PM. If you enjoy running and being part of a group\, come and join us. We run under the stars and have a great time together. \nPROGRAM DETAILS: \nGathering Location: Shalimar Cricket Ground\, Off Margala Road\, F-6/3\nGathering Time: 6:30 pm\nStarting Time: 6:45 pm \nNote: Please arrive on time as we will not wait for latecomers. \nWe understand that some may not be able to participate in the full 10 Mile Run\, so we encourage anyone interested in a shorter distance to still join us. We welcome individuals of all fitness levels and are excited to support each other in our pursuit of physical wellbeing. \nOur activities are open to anyone and are free of charge. \nAbout @lslamabadrunwithus\nWe are the pioneer and largest running community club in Pakistan. Our aim is to encourage a healthy and active lifestyle through group events and participation. Whether you’re looking to increase your cardiovascular endurance\, meet some new exercise buddies or have training partners you’ve come to the right place. \nShare your running stories/achievements with your friends and tag us @Islamabadrunwithus \nReturn to our Facebook page to view the details on all upcoming events. \nFollow us:\nhttps://facebook.com/islamabadrunwithus\nhttps://instagram.com/islamabadrunwithus\nhttps://strava.com/clubs/islamabadrunwithus\nTweets by runwithuspk\nwww.islamabadrunwithus.com \nJoin our official FB group and share stories.\nhttps://facebook.com/groups/pakistanirunnerscommunity \nGet in touch; if you have any query:\nDr Raza (0333-5186178)\nQasim Naz (0313-7896969) \n. \n 
URL:https://islamabad.visitopia.online/event/iru-friday-night-run-3/2026-04-24/
LOCATION:Shalimar Cricket Ground\, F-6/3\, Islamabad\, Shalimar Jogging Track\, Saidpur\, Islamabad\, Islamabad Capital Territory\, Islamabad\, Federal\, 44000\, Pakistan
CATEGORIES:Event,Fitness,Running
ATTACH;FMTTYPE=image/jpeg:https://islamabad.visitopia.online/wp-content/uploads/2025/05/492895766_1083626637137258_8979008138837113392_n.jpg
ORGANIZER;CN="Islamabad Run With Us (IRU)":MAILTO:islamabadrunwithus@gmail.com
END:VEVENT
END:VCALENDAR